BEGIN:VCALENDAR
VERSION:2.0
PRODID:https://github.com/derhansen/sf_event_mgt
METHOD:PUBLISH
BEGIN:VEVENT
UID:21-10@www.ihvg.ch
CLASS: PUBLIC
SUMMARY:Generalversammlung 2022
DESCRIPTION:Ordentliche Generalversammlung des IHVG über das Geschäftsjahre
  2021. Im Anschluss an die GV referiert Herr Per Just, Geschäftsleiter SWG 
 Grenchen, zum aktuellen Thema «Strommangellage und regionale Notstromlösung
 ». Dazu präsentiert POWERLOOP, Schweizerischer Fachverband, www.powerloop.c
 h, das POWERLOOP-Versicherungsmodell mit dezentralen Wärme-Kraft-Kopplungsa
 nlagen als Lösung gegen Winterstrommangel und Blackout. Weitere Information
 en zum Anlass können dem nachfolgenden Flyer entnommen werden. Wir freuen u
 nd auf zahlreiche Mitglieder und Gäste. 
DTSTAMP:20230825T063237Z
DTSTART:20220825T150000Z
END:VEVENT
END:VCALENDAR
